BEGIN:VCALENDAR
VERSION:2.0
PRODID:-//Wyoming Livestock Roundup - ECPv6.15.20//NONSGML v1.0//EN
CALSCALE:GREGORIAN
METHOD:PUBLISH
X-WR-CALNAME:Wyoming Livestock Roundup
X-ORIGINAL-URL:https://www.wylr.net
X-WR-CALDESC:Events for Wyoming Livestock Roundup
REFRESH-INTERVAL;VALUE=DURATION:PT1H
X-Robots-Tag:noindex
X-PUBLISHED-TTL:PT1H
BEGIN:VTIMEZONE
TZID:America/Denver
BEGIN:DAYLIGHT
TZOFFSETFROM:-0700
TZOFFSETTO:-0600
TZNAME:MDT
DTSTART:20250309T090000
END:DAYLIGHT
BEGIN:STANDARD
TZOFFSETFROM:-0600
TZOFFSETTO:-0700
TZNAME:MST
DTSTART:20251102T080000
END:STANDARD
BEGIN:DAYLIGHT
TZOFFSETFROM:-0700
TZOFFSETTO:-0600
TZNAME:MDT
DTSTART:20260308T090000
END:DAYLIGHT
BEGIN:STANDARD
TZOFFSETFROM:-0600
TZOFFSETTO:-0700
TZNAME:MST
DTSTART:20261101T080000
END:STANDARD
BEGIN:DAYLIGHT
TZOFFSETFROM:-0700
TZOFFSETTO:-0600
TZNAME:MDT
DTSTART:20270314T090000
END:DAYLIGHT
BEGIN:STANDARD
TZOFFSETFROM:-0600
TZOFFSETTO:-0700
TZNAME:MST
DTSTART:20271107T080000
END:STANDARD
BEGIN:DAYLIGHT
TZOFFSETFROM:-0700
TZOFFSETTO:-0600
TZNAME:MDT
DTSTART:20280312T090000
END:DAYLIGHT
BEGIN:STANDARD
TZOFFSETFROM:-0600
TZOFFSETTO:-0700
TZNAME:MST
DTSTART:20281105T080000
END:STANDARD
END:VTIMEZONE
BEGIN:VEVENT
DTSTART;TZID=America/Denver:20260822T083000
DTEND;TZID=America/Denver:20260822T160000
DTSTAMP:20260420T224230
CREATED:20260306T181158Z
LAST-MODIFIED:20260306T181158Z
UID:10003807-1787387400-1787414400@www.wylr.net
SUMMARY:Johnson County War Tour
DESCRIPTION:Aug. 22            Johnson County War Tour\, 8:30 a.m.-4 p.m.\, Kaycee. For more information\, visit hoofprintsofthepast.org/2021/07/johnson-county-war-tour/\, call 307-738-2381 or e-mail info@hoofprintsofthepast.org.
URL:https://www.wylr.net/event/johnson-county-war-tour/
CATEGORIES:Calendar of Events
END:VEVENT
BEGIN:VEVENT
DTSTART;VALUE=DATE:20260905
DTEND;VALUE=DATE:20260906
DTSTAMP:20260420T224230
CREATED:20260330T182234Z
LAST-MODIFIED:20260331T174144Z
UID:10003881-1788566400-1788652799@www.wylr.net
SUMMARY:Huskerland Horse Sale Extravaganza
DESCRIPTION:Huskerland Horse Sale Extravaganza\, Burwell Livestock Market\, Burwell\, Neb.\, 308-383-0039\, dvauction.com
URL:https://www.wylr.net/event/huskerland-horse-sale-extravaganza/
CATEGORIES:Sales
END:VEVENT
BEGIN:VEVENT
DTSTART;VALUE=DATE:20260911
DTEND;VALUE=DATE:20260914
DTSTAMP:20260420T224230
CREATED:20260420T180006Z
LAST-MODIFIED:20260420T180006Z
UID:10003932-1789084800-1789343999@www.wylr.net
SUMMARY:Hells Canyon Mule Days
DESCRIPTION:Sept. 11-13     Hells Canyon Mule Days\, Wallowa County Event Center and Fairgrounds\, Enterprise\, Ore. For more information\, visit hellscanyonmuledays.com.
URL:https://www.wylr.net/event/hells-canyon-mule-days-5/
CATEGORIES:Calendar of Events
END:VEVENT
BEGIN:VEVENT
DTSTART;VALUE=DATE:20260912
DTEND;VALUE=DATE:20260913
DTSTAMP:20260420T224230
CREATED:20260417T225506Z
LAST-MODIFIED:20260417T225545Z
UID:10003916-1789171200-1789257599@www.wylr.net
SUMMARY:Sanbar Ranch Quarter Horses 15th Annual Production Sale
DESCRIPTION:Sanbar Ranch Quarter Horses 15th Annual Production Sale\, Producers Livestock\, Salina\, Utah\, 435-469-1232\, sanbarranch.net
URL:https://www.wylr.net/event/sanbar-ranch-quarter-horses-15th-annual-production-sale/
CATEGORIES:Sales
END:VEVENT
BEGIN:VEVENT
DTSTART;VALUE=DATE:20260915
DTEND;VALUE=DATE:20260918
DTSTAMP:20260420T224230
CREATED:20260306T181239Z
LAST-MODIFIED:20260306T181239Z
UID:10003808-1789430400-1789689599@www.wylr.net
SUMMARY:Stockmanship and Stewardship
DESCRIPTION:Sept. 15-17       Stockmanship and Stewardship\, Husker Harvest Days\, Grand Island\, Neb. For more information\, visit stockmanshipandstewardship.org/.
URL:https://www.wylr.net/event/stockmanship-and-stewardship-3/
CATEGORIES:Calendar of Events
END:VEVENT
BEGIN:VEVENT
DTSTART;TZID=America/Denver:20260916T190000
DTEND;TZID=America/Denver:20260916T200000
DTSTAMP:20260420T224230
CREATED:20260402T212920Z
LAST-MODIFIED:20260402T212920Z
UID:10003905-1789585200-1789588800@www.wylr.net
SUMMARY:Growing Food in Wyoming Masterclass: Fall Soil Care
DESCRIPTION:Sept. 16            Growing Food in Wyoming Masterclass: Fall Soil Care\, 7-8 p.m.\, Zoom. For more information or to register\, visit dirtworkswyo.com.
URL:https://www.wylr.net/event/growing-food-in-wyoming-masterclass-fall-soil-care/
CATEGORIES:Calendar of Events
END:VEVENT
BEGIN:VEVENT
DTSTART;VALUE=DATE:20260918
DTEND;VALUE=DATE:20260920
DTSTAMP:20260420T224230
CREATED:20260417T162455Z
LAST-MODIFIED:20260417T225421Z
UID:10003915-1789689600-1789862399@www.wylr.net
SUMMARY:Van Norman and Friends 30th Annual Production Sale
DESCRIPTION:Van Norman and Friends 30th Annual Production Sale\, Elko County Fairgrounds\, Elko\, Nev.\, 775-934-7404\, vannormansale.com
URL:https://www.wylr.net/event/van-norman-and-friends-30th-annual-production-sale/
CATEGORIES:Sales
END:VEVENT
BEGIN:VEVENT
DTSTART;VALUE=DATE:20261020
DTEND;VALUE=DATE:20261023
DTSTAMP:20260420T224230
CREATED:20260306T181317Z
LAST-MODIFIED:20260306T181317Z
UID:10003809-1792454400-1792713599@www.wylr.net
SUMMARY:Stockmanship and Stewardship
DESCRIPTION:Oct. 20-22        Stockmanship and Stewardship\, Sunbelt Ag Expo\, Moultrie\, Ga. For more information\, visit stockmanshipandstewardship.org/.
URL:https://www.wylr.net/event/stockmanship-and-stewardship-4/
CATEGORIES:Calendar of Events
END:VEVENT
BEGIN:VEVENT
DTSTART;VALUE=DATE:20270111
DTEND;VALUE=DATE:20270124
DTSTAMP:20260420T224230
CREATED:20251217T222000Z
LAST-MODIFIED:20260119T165144Z
UID:10003637-1799625600-1800748799@www.wylr.net
SUMMARY:Clear Out West Caribbean Cruise
DESCRIPTION:Jan. 11-23\, 2027 Clear Out West Caribbean Cruise. For more information\, call 1-855-530-0131.
URL:https://www.wylr.net/event/jan-11-23-2027-clear-out-west-caribbean-cruise/
CATEGORIES:Calendar of Events
END:VEVENT
END:VCALENDAR