BEGIN:VCALENDAR
VERSION:2.0
PRODID:-//Wyoming Livestock Roundup - ECPv6.15.20//NONSGML v1.0//EN
CALSCALE:GREGORIAN
METHOD:PUBLISH
X-ORIGINAL-URL:https://www.wylr.net
X-WR-CALDESC:Events for Wyoming Livestock Roundup
REFRESH-INTERVAL;VALUE=DURATION:PT1H
X-Robots-Tag:noindex
X-PUBLISHED-TTL:PT1H
BEGIN:VTIMEZONE
TZID:America/Denver
BEGIN:DAYLIGHT
TZOFFSETFROM:-0700
TZOFFSETTO:-0600
TZNAME:MDT
DTSTART:20250309T090000
END:DAYLIGHT
BEGIN:STANDARD
TZOFFSETFROM:-0600
TZOFFSETTO:-0700
TZNAME:MST
DTSTART:20251102T080000
END:STANDARD
BEGIN:DAYLIGHT
TZOFFSETFROM:-0700
TZOFFSETTO:-0600
TZNAME:MDT
DTSTART:20260308T090000
END:DAYLIGHT
BEGIN:STANDARD
TZOFFSETFROM:-0600
TZOFFSETTO:-0700
TZNAME:MST
DTSTART:20261101T080000
END:STANDARD
BEGIN:DAYLIGHT
TZOFFSETFROM:-0700
TZOFFSETTO:-0600
TZNAME:MDT
DTSTART:20270314T090000
END:DAYLIGHT
BEGIN:STANDARD
TZOFFSETFROM:-0600
TZOFFSETTO:-0700
TZNAME:MST
DTSTART:20271107T080000
END:STANDARD
END:VTIMEZONE
BEGIN:VEVENT
DTSTART;VALUE=DATE:20260817
DTEND;VALUE=DATE:20260818
DTSTAMP:20260425T062523
CREATED:20260421T214319Z
LAST-MODIFIED:20260421T214319Z
UID:10003942-1786924800-1787011199@www.wylr.net
SUMMARY:Northern Livestock Video Auction Early Fall Preview
DESCRIPTION:Northern Livestock Video Auction Early Fall Preview\, 866-616-5035\, northernlivestockvideo.om
URL:https://www.wylr.net/event/northern-livestock-video-auction-early-fall-preview-5/
CATEGORIES:Sales
END:VEVENT
BEGIN:VEVENT
DTSTART;VALUE=DATE:20260817
DTEND;VALUE=DATE:20260822
DTSTAMP:20260425T062523
CREATED:20260421T214516Z
LAST-MODIFIED:20260421T214516Z
UID:10003943-1786924800-1787356799@www.wylr.net
SUMMARY:Superior Livestock Auction Big Horn Classic
DESCRIPTION:Superior Livestock Auction Big Horn Classic\, Sheridan\, 800-422-2117\, superiorlivestock.com
URL:https://www.wylr.net/event/superior-livestock-auction-big-horn-classic-4/
CATEGORIES:Sales
END:VEVENT
BEGIN:VEVENT
DTSTART;VALUE=DATE:20260822
DTEND;VALUE=DATE:20260823
DTSTAMP:20260425T062523
CREATED:20260424T220437Z
LAST-MODIFIED:20260424T220437Z
UID:10003955-1787356800-1787443199@www.wylr.net
SUMMARY:Memory Ranches 4th Annual Foal Sale
DESCRIPTION:Memory Ranches 4th Annual Foal Sale\, at the ranch\, Wells\, Nev.\, 208-412-6156\, 208-695-0399\, memoryranches.com
URL:https://www.wylr.net/event/memory-ranches-4th-annual-foal-sale/
CATEGORIES:Sales
END:VEVENT
BEGIN:VEVENT
DTSTART;VALUE=DATE:20260822
DTEND;VALUE=DATE:20260826
DTSTAMP:20260425T062523
CREATED:20260424T220247Z
LAST-MODIFIED:20260424T220247Z
UID:10003954-1787356800-1787702399@www.wylr.net
SUMMARY:Lauing Mill Iron L Ranch 21st Annual QH Production Sale
DESCRIPTION:Lauing Mill Iron L Ranch 21st Annual QH Production Sale\, online auction only\, prohorseservices.com\, 605-347-6193\, 605-280-0698\, 605-280-0398\, lauingmillironlranch.com
URL:https://www.wylr.net/event/lauing-mill-iron-l-ranch-21st-annual-qh-production-sale/
CATEGORIES:Sales
END:VEVENT
BEGIN:VEVENT
DTSTART;VALUE=DATE:20260905
DTEND;VALUE=DATE:20260906
DTSTAMP:20260425T062523
CREATED:20260330T182234Z
LAST-MODIFIED:20260331T174144Z
UID:10003881-1788566400-1788652799@www.wylr.net
SUMMARY:Huskerland Horse Sale Extravaganza
DESCRIPTION:Huskerland Horse Sale Extravaganza\, Burwell Livestock Market\, Burwell\, Neb.\, 308-383-0039\, dvauction.com
URL:https://www.wylr.net/event/huskerland-horse-sale-extravaganza/
CATEGORIES:Sales
END:VEVENT
BEGIN:VEVENT
DTSTART;VALUE=DATE:20260905
DTEND;VALUE=DATE:20260906
DTSTAMP:20260425T062523
CREATED:20260424T222733Z
LAST-MODIFIED:20260424T222733Z
UID:10003957-1788566400-1788652799@www.wylr.net
SUMMARY:Proffit Ranch 25th Annual Labor Day Horse Sale
DESCRIPTION:Proffit Ranch 25th Annual Labor Day Horse Sale\, Diamond X Barn\, Evanston\, 307-723-5857\, proffitranch.blogspot.com
URL:https://www.wylr.net/event/proffit-ranch-25th-annual-labor-day-horse-sale/
CATEGORIES:Sales
END:VEVENT
BEGIN:VEVENT
DTSTART;VALUE=DATE:20260910
DTEND;VALUE=DATE:20260911
DTSTAMP:20260425T062523
CREATED:20260424T214530Z
LAST-MODIFIED:20260424T214530Z
UID:10003949-1788998400-1789084799@www.wylr.net
SUMMARY:Cattle Country Video Frontier Fall Roundup
DESCRIPTION:Cattle Country Video Frontier Fall Roundup\, Cheyenne Frontier Days Event Center\, Cheyenne\, 888-322-8853\,\ncattlecountryvideo.com
URL:https://www.wylr.net/event/cattle-country-video-frontier-fall-roundup/
CATEGORIES:Sales
END:VEVENT
BEGIN:VEVENT
DTSTART;VALUE=DATE:20260912
DTEND;VALUE=DATE:20260913
DTSTAMP:20260425T062523
CREATED:20260417T225506Z
LAST-MODIFIED:20260417T225545Z
UID:10003916-1789171200-1789257599@www.wylr.net
SUMMARY:Sanbar Ranch Quarter Horses 15th Annual Production Sale
DESCRIPTION:Sanbar Ranch Quarter Horses 15th Annual Production Sale\, Producers Livestock\, Salina\, Utah\, 435-469-1232\, sanbarranch.net
URL:https://www.wylr.net/event/sanbar-ranch-quarter-horses-15th-annual-production-sale/
CATEGORIES:Sales
END:VEVENT
BEGIN:VEVENT
DTSTART;VALUE=DATE:20260912
DTEND;VALUE=DATE:20260913
DTSTAMP:20260425T062523
CREATED:20260424T220634Z
LAST-MODIFIED:20260424T220634Z
UID:10003956-1789171200-1789257599@www.wylr.net
SUMMARY:Open Box Rafter Ranch Quarter Horses 33rd Annual Production Sale
DESCRIPTION:Open Box Rafter Ranch Quarter Horses 33rd Annual Production Sale\, Rapid City\, S.D.\, 605-538-4450\, rafterranch.com
URL:https://www.wylr.net/event/open-box-rafter-ranch-quarter-horses-33rd-annual-production-sale/
CATEGORIES:Sales
END:VEVENT
BEGIN:VEVENT
DTSTART;VALUE=DATE:20260914
DTEND;VALUE=DATE:20260915
DTSTAMP:20260425T062523
CREATED:20260424T214730Z
LAST-MODIFIED:20260424T214730Z
UID:10003950-1789344000-1789430399@www.wylr.net
SUMMARY:Northern Livestock Video Auction Fall Premier
DESCRIPTION:Northern Livestock Video Auction Fall Premier\, 866-616-5035\, northernlivestockvideo.com
URL:https://www.wylr.net/event/northern-livestock-video-auction-fall-premier/
CATEGORIES:Sales
END:VEVENT
BEGIN:VEVENT
DTSTART;VALUE=DATE:20260915
DTEND;VALUE=DATE:20260916
DTSTAMP:20260425T062523
CREATED:20260424T214942Z
LAST-MODIFIED:20260424T214942Z
UID:10003951-1789430400-1789516799@www.wylr.net
SUMMARY:Western Video Market
DESCRIPTION:Western Video Market\, Haythorn Ranch\, Ogallala\, Neb.\, 530-347-3793\, wvmcattle.com
URL:https://www.wylr.net/event/western-video-market-17/
CATEGORIES:Sales
END:VEVENT
BEGIN:VEVENT
DTSTART;VALUE=DATE:20260918
DTEND;VALUE=DATE:20260920
DTSTAMP:20260425T062523
CREATED:20260417T162455Z
LAST-MODIFIED:20260417T225421Z
UID:10003915-1789689600-1789862399@www.wylr.net
SUMMARY:Van Norman and Friends 30th Annual Production Sale
DESCRIPTION:Van Norman and Friends 30th Annual Production Sale\, Elko County Fairgrounds\, Elko\, Nev.\, 775-934-7404\, vannormansale.com
URL:https://www.wylr.net/event/van-norman-and-friends-30th-annual-production-sale/
CATEGORIES:Sales
END:VEVENT
END:VCALENDAR