BEGIN:VCALENDAR
VERSION:2.0
PRODID:-//Wyoming Livestock Roundup - ECPv6.15.20//NONSGML v1.0//EN
CALSCALE:GREGORIAN
METHOD:PUBLISH
X-ORIGINAL-URL:https://www.wylr.net
X-WR-CALDESC:Events for Wyoming Livestock Roundup
REFRESH-INTERVAL;VALUE=DURATION:PT1H
X-Robots-Tag:noindex
X-PUBLISHED-TTL:PT1H
BEGIN:VTIMEZONE
TZID:America/Denver
BEGIN:DAYLIGHT
TZOFFSETFROM:-0700
TZOFFSETTO:-0600
TZNAME:MDT
DTSTART:20250309T090000
END:DAYLIGHT
BEGIN:STANDARD
TZOFFSETFROM:-0600
TZOFFSETTO:-0700
TZNAME:MST
DTSTART:20251102T080000
END:STANDARD
BEGIN:DAYLIGHT
TZOFFSETFROM:-0700
TZOFFSETTO:-0600
TZNAME:MDT
DTSTART:20260308T090000
END:DAYLIGHT
BEGIN:STANDARD
TZOFFSETFROM:-0600
TZOFFSETTO:-0700
TZNAME:MST
DTSTART:20261101T080000
END:STANDARD
BEGIN:DAYLIGHT
TZOFFSETFROM:-0700
TZOFFSETTO:-0600
TZNAME:MDT
DTSTART:20270314T090000
END:DAYLIGHT
BEGIN:STANDARD
TZOFFSETFROM:-0600
TZOFFSETTO:-0700
TZNAME:MST
DTSTART:20271107T080000
END:STANDARD
END:VTIMEZONE
BEGIN:VEVENT
DTSTART;TZID=America/Denver:20260811T183000
DTEND;TZID=America/Denver:20260811T210000
DTSTAMP:20260425T065157
CREATED:20260424T212338Z
LAST-MODIFIED:20260424T212338Z
UID:10003948-1786473000-1786482000@www.wylr.net
SUMMARY:Wyoming Ranch Rodeo Finals
DESCRIPTION:Aug. 11     Wyoming Ranch Rodeo Finals\, Wyoming State Fairgrounds\, Douglas. Calcutta at 6:30 p.m.\, rodeo at 7 p.m. Entries close Aug. 5 at 5 p.m. For more information\, call 307-259-1674 or 307-340-1914.
URL:https://www.wylr.net/event/wyoming-ranch-rodeo-finals/
CATEGORIES:Calendar of Events
END:VEVENT
BEGIN:VEVENT
DTSTART;TZID=America/Denver:20260812T190000
DTEND;TZID=America/Denver:20260812T200000
DTSTAMP:20260425T065157
CREATED:20260402T212818Z
LAST-MODIFIED:20260402T212818Z
UID:10003904-1786561200-1786564800@www.wylr.net
SUMMARY:Growing Food in Wyoming Masterclass: Preserving the Harvest
DESCRIPTION:Aug. 12            Growing Food in Wyoming Masterclass: Preserving the Harvest\, 7-8 p.m.\, Zoom. For more information or to register\, visit dirtworkswyo.com.
URL:https://www.wylr.net/event/growing-food-in-wyoming-masterclass-preserving-the-harvest/
CATEGORIES:Calendar of Events
END:VEVENT
END:VCALENDAR