BEGIN:VCALENDAR
VERSION:2.0
PRODID:-//Wyoming Livestock Roundup - ECPv6.15.20//NONSGML v1.0//EN
CALSCALE:GREGORIAN
METHOD:PUBLISH
X-ORIGINAL-URL:https://www.wylr.net
X-WR-CALDESC:Events for Wyoming Livestock Roundup
REFRESH-INTERVAL;VALUE=DURATION:PT1H
X-Robots-Tag:noindex
X-PUBLISHED-TTL:PT1H
BEGIN:VTIMEZONE
TZID:America/Denver
BEGIN:DAYLIGHT
TZOFFSETFROM:-0700
TZOFFSETTO:-0600
TZNAME:MDT
DTSTART:20250309T090000
END:DAYLIGHT
BEGIN:STANDARD
TZOFFSETFROM:-0600
TZOFFSETTO:-0700
TZNAME:MST
DTSTART:20251102T080000
END:STANDARD
BEGIN:DAYLIGHT
TZOFFSETFROM:-0700
TZOFFSETTO:-0600
TZNAME:MDT
DTSTART:20260308T090000
END:DAYLIGHT
BEGIN:STANDARD
TZOFFSETFROM:-0600
TZOFFSETTO:-0700
TZNAME:MST
DTSTART:20261101T080000
END:STANDARD
BEGIN:DAYLIGHT
TZOFFSETFROM:-0700
TZOFFSETTO:-0600
TZNAME:MDT
DTSTART:20270314T090000
END:DAYLIGHT
BEGIN:STANDARD
TZOFFSETFROM:-0600
TZOFFSETTO:-0700
TZNAME:MST
DTSTART:20271107T080000
END:STANDARD
END:VTIMEZONE
BEGIN:VEVENT
DTSTART;TZID=America/Denver:20260624T190000
DTEND;TZID=America/Denver:20260624T200000
DTSTAMP:20260424T110333
CREATED:20260402T212613Z
LAST-MODIFIED:20260402T212613Z
UID:10003902-1782327600-1782331200@www.wylr.net
SUMMARY:Growing Food in Wyoming Masterclass: Water and Irrigation
DESCRIPTION:June 24            Growing Food in Wyoming Masterclass: Water and Irrigation\, 7-8 p.m.\, Zoom. For more information or to register\, visit dirtworkswyo.com.
URL:https://www.wylr.net/event/growing-food-in-wyoming-masterclass-water-and-irrigation/
CATEGORIES:Calendar of Events
END:VEVENT
BEGIN:VEVENT
DTSTART;VALUE=DATE:20260626
DTEND;VALUE=DATE:20260627
DTSTAMP:20260424T110333
CREATED:20260420T173920Z
LAST-MODIFIED:20260420T173920Z
UID:10003930-1782432000-1782518399@www.wylr.net
SUMMARY:Sportsperson’s Conservation Forum
DESCRIPTION:June 26      Sportsperson’s Conservation Forum\, CAM-PLEX\, Gillette. For more information or to purchase tickets\, visit wgfd.wyo.gov.
URL:https://www.wylr.net/event/sportspersons-conservation-forum/
CATEGORIES:Calendar of Events
END:VEVENT
END:VCALENDAR