BEGIN:VCALENDAR
VERSION:2.0
PRODID:-//Wyoming Livestock Roundup - ECPv6.15.20//NONSGML v1.0//EN
CALSCALE:GREGORIAN
METHOD:PUBLISH
X-ORIGINAL-URL:https://www.wylr.net
X-WR-CALDESC:Events for Wyoming Livestock Roundup
REFRESH-INTERVAL;VALUE=DURATION:PT1H
X-Robots-Tag:noindex
X-PUBLISHED-TTL:PT1H
BEGIN:VTIMEZONE
TZID:America/Denver
BEGIN:DAYLIGHT
TZOFFSETFROM:-0700
TZOFFSETTO:-0600
TZNAME:MDT
DTSTART:20250309T090000
END:DAYLIGHT
BEGIN:STANDARD
TZOFFSETFROM:-0600
TZOFFSETTO:-0700
TZNAME:MST
DTSTART:20251102T080000
END:STANDARD
BEGIN:DAYLIGHT
TZOFFSETFROM:-0700
TZOFFSETTO:-0600
TZNAME:MDT
DTSTART:20260308T090000
END:DAYLIGHT
BEGIN:STANDARD
TZOFFSETFROM:-0600
TZOFFSETTO:-0700
TZNAME:MST
DTSTART:20261101T080000
END:STANDARD
BEGIN:DAYLIGHT
TZOFFSETFROM:-0700
TZOFFSETTO:-0600
TZNAME:MDT
DTSTART:20270314T090000
END:DAYLIGHT
BEGIN:STANDARD
TZOFFSETFROM:-0600
TZOFFSETTO:-0700
TZNAME:MST
DTSTART:20271107T080000
END:STANDARD
END:VTIMEZONE
BEGIN:VEVENT
DTSTART;TZID=America/Denver:20260501T090000
DTEND;TZID=America/Denver:20260601T160000
DTSTAMP:20260424T075906
CREATED:20260313T221208Z
LAST-MODIFIED:20260313T221208Z
UID:10003853-1777626000-1780329600@www.wylr.net
SUMMARY:Wyoming Game and Fish Department Aquatic Invasive Species Inspector Training
DESCRIPTION:May 1              Wyoming Game and Fish Department Aquatic Invasive Species Inspector Training\, 9 a.m.-4 p.m.\, Laramie Regional Office\, Laramie. For more information or to register\, visit wgfd.wyo.gov.
URL:https://www.wylr.net/event/wyoming-game-and-fish-department-aquatic-invasive-species-inspector-training-4/
CATEGORIES:Calendar of Events
END:VEVENT
BEGIN:VEVENT
DTSTART;VALUE=DATE:20260601
DTEND;VALUE=DATE:20260603
DTSTAMP:20260424T075906
CREATED:20260420T173713Z
LAST-MODIFIED:20260420T173713Z
UID:10003927-1780272000-1780444799@www.wylr.net
SUMMARY:Annual Tractor and Equipment Safety Course
DESCRIPTION:June 1-2     Annual Tractor and Equipment Safety Course\, Legacy of the Plains Museum\, Gering\, Neb. For more information or to register\, visit unmc.edu/publichealth/cscash/outreach/farm-safety-days.html.
URL:https://www.wylr.net/event/annual-tractor-and-equipment-safety-course/
CATEGORIES:Calendar of Events
END:VEVENT
BEGIN:VEVENT
DTSTART;TZID=America/Denver:20260601T090000
DTEND;TZID=America/Denver:20260601T160000
DTSTAMP:20260424T075906
CREATED:20260313T221347Z
LAST-MODIFIED:20260313T221347Z
UID:10003855-1780304400-1780329600@www.wylr.net
SUMMARY:Wyoming Game and Fish Department Aquatic Invasive Species Inspector Training
DESCRIPTION:June 1              Wyoming Game and Fish Department Aquatic Invasive Species Inspector Training\, 9 a.m.-4 p.m.\, Green River Regional Office\, Green River. For more information or to register\, visit wgfd.wyo.gov.
URL:https://www.wylr.net/event/wyoming-game-and-fish-department-aquatic-invasive-species-inspector-training-6/
CATEGORIES:Calendar of Events
END:VEVENT
BEGIN:VEVENT
DTSTART;TZID=America/Denver:20260601T180000
DTEND;TZID=America/Denver:20260601T190000
DTSTAMP:20260424T075906
CREATED:20260306T181023Z
LAST-MODIFIED:20260306T181023Z
UID:10003805-1780336800-1780340400@www.wylr.net
SUMMARY:Uinta Veterinary Hospital Free 4-H Sheep and Goats Class
DESCRIPTION:June 1              Uinta Veterinary Hospital Free 4-H Sheep and Goats Class\, 6-7 p.m.\, Uinta Veterinary Hospital\, Fort Bridger. For more information\, call 307-783-0570 or e-mail uinta@uwyo.edu.
URL:https://www.wylr.net/event/uinta-veterinary-hospital-free-4-h-sheep-and-goats-class/
CATEGORIES:Calendar of Events
END:VEVENT
BEGIN:VEVENT
DTSTART;VALUE=DATE:20260603
DTEND;VALUE=DATE:20260604
DTSTAMP:20260424T075906
CREATED:20260420T173756Z
LAST-MODIFIED:20260420T173756Z
UID:10003928-1780444800-1780531199@www.wylr.net
SUMMARY:Annual Tractor and Equipment Safety Course
DESCRIPTION:June 3     Annual Tractor and Equipment Safety Course\, Sheridan County Fairgrounds\, Gordon\, Neb. For more information or to register\, visit unmc.edu/publichealth/cscash/outreach/farm-safety-days.html.
URL:https://www.wylr.net/event/annual-tractor-and-equipment-safety-course-2/
CATEGORIES:Calendar of Events
END:VEVENT
BEGIN:VEVENT
DTSTART;TZID=America/Denver:20260604T180000
DTEND;TZID=America/Denver:20260604T193000
DTSTAMP:20260424T075906
CREATED:20260420T173840Z
LAST-MODIFIED:20260420T173840Z
UID:10003929-1780596000-1780601400@www.wylr.net
SUMMARY:University of Wyoming Extension Wildfire Webinar Series: Positive and Negative Impacts to Wildfire Habitat
DESCRIPTION:June 4     University of Wyoming Extension Wildfire Webinar Series: Positive and Negative Impacts to Wildfire Habitat\, 6-7:30 p.m.\, Zoom. For more information\, visit wyoextension.org/wrir/wildfire-webinar/.
URL:https://www.wylr.net/event/university-of-wyoming-extension-wildfire-webinar-series-positive-and-negative-impacts-to-wildfire-habitat/
CATEGORIES:Calendar of Events
END:VEVENT
BEGIN:VEVENT
DTSTART;TZID=America/Denver:20260607T090000
DTEND;TZID=America/Denver:20260607T160000
DTSTAMP:20260424T075906
CREATED:20260313T221437Z
LAST-MODIFIED:20260313T221437Z
UID:10003856-1780822800-1780848000@www.wylr.net
SUMMARY:Wyoming Game and Fish Department Aquatic Invasive Species Inspector Training
DESCRIPTION:June 7              Wyoming Game and Fish Department Aquatic Invasive Species Inspector Training\, 9 a.m.-4 p.m.\, Jackson Regional Office\, Jackson. For more information or to register\, visit wgfd.wyo.gov.
URL:https://www.wylr.net/event/wyoming-game-and-fish-department-aquatic-invasive-species-inspector-training-7/
CATEGORIES:Calendar of Events
END:VEVENT
END:VCALENDAR