BEGIN:VCALENDAR
VERSION:2.0
PRODID:-//Wyoming Livestock Roundup - ECPv6.15.20//NONSGML v1.0//EN
CALSCALE:GREGORIAN
METHOD:PUBLISH
X-ORIGINAL-URL:https://www.wylr.net
X-WR-CALDESC:Events for Wyoming Livestock Roundup
REFRESH-INTERVAL;VALUE=DURATION:PT1H
X-Robots-Tag:noindex
X-PUBLISHED-TTL:PT1H
BEGIN:VTIMEZONE
TZID:America/Denver
BEGIN:DAYLIGHT
TZOFFSETFROM:-0700
TZOFFSETTO:-0600
TZNAME:MDT
DTSTART:20250309T090000
END:DAYLIGHT
BEGIN:STANDARD
TZOFFSETFROM:-0600
TZOFFSETTO:-0700
TZNAME:MST
DTSTART:20251102T080000
END:STANDARD
BEGIN:DAYLIGHT
TZOFFSETFROM:-0700
TZOFFSETTO:-0600
TZNAME:MDT
DTSTART:20260308T090000
END:DAYLIGHT
BEGIN:STANDARD
TZOFFSETFROM:-0600
TZOFFSETTO:-0700
TZNAME:MST
DTSTART:20261101T080000
END:STANDARD
BEGIN:DAYLIGHT
TZOFFSETFROM:-0700
TZOFFSETTO:-0600
TZNAME:MDT
DTSTART:20270314T090000
END:DAYLIGHT
BEGIN:STANDARD
TZOFFSETFROM:-0600
TZOFFSETTO:-0700
TZNAME:MST
DTSTART:20271107T080000
END:STANDARD
END:VTIMEZONE
BEGIN:VEVENT
DTSTART;TZID=America/Denver:20260501T090000
DTEND;TZID=America/Denver:20260601T160000
DTSTAMP:20260424T063414
CREATED:20260313T221208Z
LAST-MODIFIED:20260313T221208Z
UID:10003853-1777626000-1780329600@www.wylr.net
SUMMARY:Wyoming Game and Fish Department Aquatic Invasive Species Inspector Training
DESCRIPTION:May 1              Wyoming Game and Fish Department Aquatic Invasive Species Inspector Training\, 9 a.m.-4 p.m.\, Laramie Regional Office\, Laramie. For more information or to register\, visit wgfd.wyo.gov.
URL:https://www.wylr.net/event/wyoming-game-and-fish-department-aquatic-invasive-species-inspector-training-4/
CATEGORIES:Calendar of Events
END:VEVENT
BEGIN:VEVENT
DTSTART;VALUE=DATE:20260512
DTEND;VALUE=DATE:20260513
DTSTAMP:20260424T063414
CREATED:20260420T172723Z
LAST-MODIFIED:20260420T172723Z
UID:10003923-1778544000-1778630399@www.wylr.net
SUMMARY:Washakie County Conservation District Annual Invasive Grasses Workshop
DESCRIPTION:May 12     Washakie County Conservation District Annual Invasive Grasses Workshop\, Washakie Museum and Cultural Center\, Worland. For more information\, contact Amanda Konkowski at 307-431-3163. To register\, visit washakiecd.com/.
URL:https://www.wylr.net/event/washakie-county-conservation-district-annual-invasive-grasses-workshop/
CATEGORIES:Calendar of Events
END:VEVENT
BEGIN:VEVENT
DTSTART;TZID=America/Denver:20260513T190000
DTEND;TZID=America/Denver:20260513T200000
DTSTAMP:20260424T063414
CREATED:20260402T212253Z
LAST-MODIFIED:20260402T212253Z
UID:10003898-1778698800-1778702400@www.wylr.net
SUMMARY:Growing Food in Wyoming Masterclass: Fertilizer and Soil Amendments
DESCRIPTION:May 13            Growing Food in Wyoming Masterclass: Fertilizer and Soil Amendments\, 7-8 p.m.\, Zoom. For more information or to register\, visit dirtworkswyo.com.
URL:https://www.wylr.net/event/growing-food-in-wyoming-masterclass-fertilizer-and-soil-amendments/
CATEGORIES:Calendar of Events
END:VEVENT
BEGIN:VEVENT
DTSTART;TZID=America/Denver:20260514T180000
DTEND;TZID=America/Denver:20260514T193000
DTSTAMP:20260424T063414
CREATED:20260420T173252Z
LAST-MODIFIED:20260420T173252Z
UID:10003924-1778781600-1778787000@www.wylr.net
SUMMARY:University of Wyoming Extension Wildfire Webinar Series: Impacts of Wildfire Smoke on Livestock and Grazing After Wildfir
DESCRIPTION:May 14     University of Wyoming Extension Wildfire Webinar Series: Impacts of Wildfire Smoke on Livestock and Grazing After Wildfire\, 6-7:30 p.m.\, Zoom. For more information\, visit wyoextension.org/wrir/wildfire-webinar/.
URL:https://www.wylr.net/event/university-of-wyoming-extension-wildfire-webinar-series-impacts-of-wildfire-smoke-on-livestock-and-grazing-after-wildfir/
CATEGORIES:Calendar of Events
END:VEVENT
END:VCALENDAR