BEGIN:VCALENDAR
VERSION:2.0
PRODID:-//Wyoming Livestock Roundup - ECPv6.15.20//NONSGML v1.0//EN
CALSCALE:GREGORIAN
METHOD:PUBLISH
X-WR-CALNAME:Wyoming Livestock Roundup
X-ORIGINAL-URL:https://www.wylr.net
X-WR-CALDESC:Events for Wyoming Livestock Roundup
REFRESH-INTERVAL;VALUE=DURATION:PT1H
X-Robots-Tag:noindex
X-PUBLISHED-TTL:PT1H
BEGIN:VTIMEZONE
TZID:America/Denver
BEGIN:DAYLIGHT
TZOFFSETFROM:-0700
TZOFFSETTO:-0600
TZNAME:MDT
DTSTART:20250309T090000
END:DAYLIGHT
BEGIN:STANDARD
TZOFFSETFROM:-0600
TZOFFSETTO:-0700
TZNAME:MST
DTSTART:20251102T080000
END:STANDARD
BEGIN:DAYLIGHT
TZOFFSETFROM:-0700
TZOFFSETTO:-0600
TZNAME:MDT
DTSTART:20260308T090000
END:DAYLIGHT
BEGIN:STANDARD
TZOFFSETFROM:-0600
TZOFFSETTO:-0700
TZNAME:MST
DTSTART:20261101T080000
END:STANDARD
BEGIN:DAYLIGHT
TZOFFSETFROM:-0700
TZOFFSETTO:-0600
TZNAME:MDT
DTSTART:20270314T090000
END:DAYLIGHT
BEGIN:STANDARD
TZOFFSETFROM:-0600
TZOFFSETTO:-0700
TZNAME:MST
DTSTART:20271107T080000
END:STANDARD
END:VTIMEZONE
BEGIN:VEVENT
DTSTART;TZID=America/Denver:20260501T090000
DTEND;TZID=America/Denver:20260601T160000
DTSTAMP:20260424T051155
CREATED:20260313T221208Z
LAST-MODIFIED:20260313T221208Z
UID:10003853-1777626000-1780329600@www.wylr.net
SUMMARY:Wyoming Game and Fish Department Aquatic Invasive Species Inspector Training
DESCRIPTION:May 1              Wyoming Game and Fish Department Aquatic Invasive Species Inspector Training\, 9 a.m.-4 p.m.\, Laramie Regional Office\, Laramie. For more information or to register\, visit wgfd.wyo.gov.
URL:https://www.wylr.net/event/wyoming-game-and-fish-department-aquatic-invasive-species-inspector-training-4/
CATEGORIES:Calendar of Events
END:VEVENT
BEGIN:VEVENT
DTSTART;TZID=America/Denver:20260504T180000
DTEND;TZID=America/Denver:20260504T190000
DTSTAMP:20260424T051155
CREATED:20260306T180836Z
LAST-MODIFIED:20260306T180836Z
UID:10003803-1777917600-1777921200@www.wylr.net
SUMMARY:Uinta Veterinary Hospital Free 4-H Beef Class
DESCRIPTION:May 4              Uinta Veterinary Hospital Free 4-H Beef Class\, 6-7 p.m.\, Uinta Veterinary Hospital\, Fort Bridger. For more information\, call 307-783-0570 or e-mail uinta@uwyo.edu.
URL:https://www.wylr.net/event/uinta-veterinary-hospital-free-4-h-beef-class/
CATEGORIES:Calendar of Events
END:VEVENT
BEGIN:VEVENT
DTSTART;VALUE=DATE:20260505
DTEND;VALUE=DATE:20260508
DTSTAMP:20260424T051155
CREATED:20250926T183930Z
LAST-MODIFIED:20250926T183930Z
UID:10003523-1777939200-1778198399@www.wylr.net
SUMMARY:  2026 Animal Agriculture Alliance Stakeholders Summit
DESCRIPTION:May 5-7                       2026 Animal Agriculture Alliance Stakeholders Summit\, The InterContinental Kansas City at the Plaza\, Kansas City\, Mo. For more information or to register\, visit animalagalliance.org/initiatives/stakeholders-summit/.
URL:https://www.wylr.net/event/2026-animal-agriculture-alliance-stakeholders-summit/
CATEGORIES:Calendar of Events
END:VEVENT
BEGIN:VEVENT
DTSTART;TZID=America/Denver:20260507T180000
DTEND;TZID=America/Denver:20260507T193000
DTSTAMP:20260424T051155
CREATED:20260420T172650Z
LAST-MODIFIED:20260420T172650Z
UID:10003922-1778176800-1778182200@www.wylr.net
SUMMARY:University of Wyoming Extension Wildfire Webinar Series: Collaborative Community-Level Planning for Wildfire Risk Management
DESCRIPTION:May 7     University of Wyoming Extension Wildfire Webinar Series: Collaborative Community-Level Planning for Wildfire Risk Management\, 6-7:30 p.m.\, Zoom. For more information\, visit wyoextension.org/wrir/wildfire-webinar/.
URL:https://www.wylr.net/event/university-of-wyoming-extension-wildfire-webinar-series-collaborative-community-level-planning-for-wildfire-risk-management/
CATEGORIES:Calendar of Events
END:VEVENT
BEGIN:VEVENT
DTSTART;TZID=America/Denver:20260507T180000
DTEND;TZID=America/Denver:20260507T200000
DTSTAMP:20260424T051155
CREATED:20260320T153204Z
LAST-MODIFIED:20260320T153204Z
UID:10003871-1778176800-1778184000@www.wylr.net
SUMMARY:Wyoming Game and Fish Department “Carrying Capacity: The Hunt for Resilience” Film Screening
DESCRIPTION:May 7              Wyoming Game and Fish Department “Carrying Capacity: The Hunt for Resilience” Film Screening\, 6-8 p.m.\, Center of the Arts\, Jackson. For more information\, visit wgfd.wyo.gov.
URL:https://www.wylr.net/event/wyoming-game-and-fish-department-carrying-capacity-the-hunt-for-resilience-film-screening-5/
CATEGORIES:Calendar of Events
END:VEVENT
BEGIN:VEVENT
DTSTART;VALUE=DATE:20260508
DTEND;VALUE=DATE:20260510
DTSTAMP:20260424T051155
CREATED:20260402T155756Z
LAST-MODIFIED:20260402T155922Z
UID:10003886-1778198400-1778371199@www.wylr.net
SUMMARY:Sheepherder’s Festival
DESCRIPTION:May 8-9     Sheepherder’s Festival\, Rockpile Museum\, Gillette. For more information\, call 307-682-7523.
URL:https://www.wylr.net/event/sheepherders-festival/
CATEGORIES:Calendar of Events
END:VEVENT
END:VCALENDAR