BEGIN:VCALENDAR
VERSION:2.0
PRODID:-//Wyoming Livestock Roundup - ECPv6.15.20//NONSGML v1.0//EN
CALSCALE:GREGORIAN
METHOD:PUBLISH
X-ORIGINAL-URL:https://www.wylr.net
X-WR-CALDESC:Events for Wyoming Livestock Roundup
REFRESH-INTERVAL;VALUE=DURATION:PT1H
X-Robots-Tag:noindex
X-PUBLISHED-TTL:PT1H
BEGIN:VTIMEZONE
TZID:America/Denver
BEGIN:DAYLIGHT
TZOFFSETFROM:-0700
TZOFFSETTO:-0600
TZNAME:MDT
DTSTART:20250309T090000
END:DAYLIGHT
BEGIN:STANDARD
TZOFFSETFROM:-0600
TZOFFSETTO:-0700
TZNAME:MST
DTSTART:20251102T080000
END:STANDARD
BEGIN:DAYLIGHT
TZOFFSETFROM:-0700
TZOFFSETTO:-0600
TZNAME:MDT
DTSTART:20260308T090000
END:DAYLIGHT
BEGIN:STANDARD
TZOFFSETFROM:-0600
TZOFFSETTO:-0700
TZNAME:MST
DTSTART:20261101T080000
END:STANDARD
BEGIN:DAYLIGHT
TZOFFSETFROM:-0700
TZOFFSETTO:-0600
TZNAME:MDT
DTSTART:20270314T090000
END:DAYLIGHT
BEGIN:STANDARD
TZOFFSETFROM:-0600
TZOFFSETTO:-0700
TZNAME:MST
DTSTART:20271107T080000
END:STANDARD
END:VTIMEZONE
BEGIN:VEVENT
DTSTART;TZID=America/Denver:20260428T080000
DTEND;TZID=America/Denver:20260428T170000
DTSTAMP:20260424T063254
CREATED:20260420T171929Z
LAST-MODIFIED:20260420T171929Z
UID:10003919-1777363200-1777395600@www.wylr.net
SUMMARY:Get Your Garden Started Webinar
DESCRIPTION:April 28     Get Your Garden Started Webinar\, 8 a.m.\, Zoom. For more information or to register\, visit beatsbedsbrowns.com/get-your-garden-started-virtual-event/.
URL:https://www.wylr.net/event/get-your-garden-started-webinar/
CATEGORIES:Calendar of Events
END:VEVENT
BEGIN:VEVENT
DTSTART;TZID=America/Denver:20260428T130000
DTEND;TZID=America/Denver:20260428T160000
DTSTAMP:20260424T063254
CREATED:20260420T172032Z
LAST-MODIFIED:20260420T172032Z
UID:10003920-1777381200-1777392000@www.wylr.net
SUMMARY:Public Lands Council Federal Lands Grazing Roundtable
DESCRIPTION:April 28     Public Lands Council Federal Lands Grazing Roundtable\, 1-4 p.m.\, Riverton. For more information or to RSVP\, e-mail info@publiclandscouncil.org.
URL:https://www.wylr.net/event/public-lands-council-federal-lands-grazing-roundtable/
CATEGORIES:Calendar of Events
END:VEVENT
BEGIN:VEVENT
DTSTART;TZID=America/Denver:20260429T190000
DTEND;TZID=America/Denver:20260429T210000
DTSTAMP:20260424T063254
CREATED:20260402T212202Z
LAST-MODIFIED:20260403T143556Z
UID:10003897-1777489200-1777496400@www.wylr.net
SUMMARY:Growing Food in Wyoming Masterclass: Soil and Seeds
DESCRIPTION:April 29           Growing Food in Wyoming Masterclass: Soil and Seeds\, 7-9 p.m.\, Zoom. For more information or to register\, visit dirtworkswyo.com.
URL:https://www.wylr.net/event/growing-food-in-wyoming-masterclass-soil-and-seeds/
CATEGORIES:Calendar of Events
END:VEVENT
BEGIN:VEVENT
DTSTART;VALUE=DATE:20260430
DTEND;VALUE=DATE:20260502
DTSTAMP:20260424T063254
CREATED:20260306T180238Z
LAST-MODIFIED:20260306T180238Z
UID:10003802-1777507200-1777679999@www.wylr.net
SUMMARY:2026 Wyoming Outdoor Recreation Summit
DESCRIPTION:April 30-May 1            2026 Wyoming Outdoor Recreation Summit\, Platte Valley Community Center\, Saratoga. For more information\, visit uwyo.edu/worth/events/wors.html or contact Taylor Kruger at tkruger@uwyo.edu or 307-766-5019.
URL:https://www.wylr.net/event/2026-wyoming-outdoor-recreation-summit/
CATEGORIES:Calendar of Events
END:VEVENT
BEGIN:VEVENT
DTSTART;TZID=America/Denver:20260430T180000
DTEND;TZID=America/Denver:20260430T193000
DTSTAMP:20260424T063254
CREATED:20260420T172222Z
LAST-MODIFIED:20260420T172222Z
UID:10003921-1777572000-1777577400@www.wylr.net
SUMMARY:University of Wyoming Extension Wildfire Webinar Series: Integrated Fuels Management Within the Wind River and Big Horn Basi
DESCRIPTION:April 30     University of Wyoming Extension Wildfire Webinar Series: Integrated Fuels Management Within the Wind River and Big Horn Basin\, 6-7:30 p.m.\, Zoom. For more information\, visit wyoextension.org/wrir/wildfire-webinar/.
URL:https://www.wylr.net/event/university-of-wyoming-extension-wildfire-webinar-series-integrated-fuels-management-within-the-wind-river-and-big-horn-basi/
CATEGORIES:Calendar of Events
END:VEVENT
BEGIN:VEVENT
DTSTART;TZID=America/Denver:20260501T090000
DTEND;TZID=America/Denver:20260601T160000
DTSTAMP:20260424T063254
CREATED:20260313T221208Z
LAST-MODIFIED:20260313T221208Z
UID:10003853-1777626000-1780329600@www.wylr.net
SUMMARY:Wyoming Game and Fish Department Aquatic Invasive Species Inspector Training
DESCRIPTION:May 1              Wyoming Game and Fish Department Aquatic Invasive Species Inspector Training\, 9 a.m.-4 p.m.\, Laramie Regional Office\, Laramie. For more information or to register\, visit wgfd.wyo.gov.
URL:https://www.wylr.net/event/wyoming-game-and-fish-department-aquatic-invasive-species-inspector-training-4/
CATEGORIES:Calendar of Events
END:VEVENT
BEGIN:VEVENT
DTSTART;TZID=America/Denver:20260501T170000
DTEND;TZID=America/Denver:20260501T210000
DTSTAMP:20260424T063254
CREATED:20260327T211654Z
LAST-MODIFIED:20260327T211654Z
UID:10003879-1777654800-1777669200@www.wylr.net
SUMMARY:Art and Authors Meet and Mingle: Sip\, Savor and Shop
DESCRIPTION:May 1     Art and Authors Meet and Mingle: Sip\, Savor and Shop\, 5-9 p.m.\, The Red Lion\, Cheyenne. For more information\, contact Carol Horam at 307-112-8703.
URL:https://www.wylr.net/event/art-and-authors-meet-and-mingle-sip-savor-and-shop/
CATEGORIES:Calendar of Events
END:VEVENT
END:VCALENDAR