BEGIN:VCALENDAR
VERSION:2.0
PRODID:-//Wyoming Livestock Roundup - ECPv6.15.20//NONSGML v1.0//EN
CALSCALE:GREGORIAN
METHOD:PUBLISH
X-WR-CALNAME:Wyoming Livestock Roundup
X-ORIGINAL-URL:https://www.wylr.net
X-WR-CALDESC:Events for Wyoming Livestock Roundup
REFRESH-INTERVAL;VALUE=DURATION:PT1H
X-Robots-Tag:noindex
X-PUBLISHED-TTL:PT1H
BEGIN:VTIMEZONE
TZID:America/Denver
BEGIN:DAYLIGHT
TZOFFSETFROM:-0700
TZOFFSETTO:-0600
TZNAME:MDT
DTSTART:20250309T090000
END:DAYLIGHT
BEGIN:STANDARD
TZOFFSETFROM:-0600
TZOFFSETTO:-0700
TZNAME:MST
DTSTART:20251102T080000
END:STANDARD
BEGIN:DAYLIGHT
TZOFFSETFROM:-0700
TZOFFSETTO:-0600
TZNAME:MDT
DTSTART:20260308T090000
END:DAYLIGHT
BEGIN:STANDARD
TZOFFSETFROM:-0600
TZOFFSETTO:-0700
TZNAME:MST
DTSTART:20261101T080000
END:STANDARD
BEGIN:DAYLIGHT
TZOFFSETFROM:-0700
TZOFFSETTO:-0600
TZNAME:MDT
DTSTART:20270314T090000
END:DAYLIGHT
BEGIN:STANDARD
TZOFFSETFROM:-0600
TZOFFSETTO:-0700
TZNAME:MST
DTSTART:20271107T080000
END:STANDARD
END:VTIMEZONE
BEGIN:VEVENT
DTSTART;VALUE=DATE:20260401
DTEND;VALUE=DATE:20260427
DTSTAMP:20260422T061540
CREATED:20260402T211228Z
LAST-MODIFIED:20260403T143214Z
UID:10003888-1775001600-1777247999@www.wylr.net
SUMMARY:Nebraska Sandhills Rancher Fire Relief Auction
DESCRIPTION:April 1-26        Nebraska Sandhills Rancher Fire Relief Auction\, online. To donate\, visit farmauction.net/nsrfr-auction/?utm_source=FBInsta&utm_medium=post&utm_campaign=nsrfr-auction&utm_content=post. To bid\, visit bidkraupie.com/auctions/5556-nebraska-sandhills-rancher-fire-relief-fundraising-auction?utm_source=FBInsta&utm_medium=post&utm_campaign=nsrfr-auction&utm_content=donations-auction-link.
URL:https://www.wylr.net/event/nebraska-sandhills-rancher-fire-relief-auction/
CATEGORIES:Calendar of Events
END:VEVENT
BEGIN:VEVENT
DTSTART;TZID=America/Denver:20260421T090000
DTEND;TZID=America/Denver:20260421T143000
DTSTAMP:20260422T061540
CREATED:20260420T171546Z
LAST-MODIFIED:20260420T171632Z
UID:10003917-1776762000-1776781800@www.wylr.net
SUMMARY:Nebraska Extension Tools and Tactics for Managing Drought Workshop
DESCRIPTION:April 21     Nebraska Extension Tools and Tactics for Managing Drought Workshop\, 9 a.m.-2:30 p.m.\, Panhandle Research\, Extension and Education Center\, Scottsbluff\, Neb. For more information or to register\, visit nsco.unl.edu.
URL:https://www.wylr.net/event/nebraska-extension-tools-and-tactics-for-managing-drought-workshop/
CATEGORIES:Calendar of Events
END:VEVENT
BEGIN:VEVENT
DTSTART;TZID=America/Denver:20260422T090000
DTEND;TZID=America/Denver:20260422T143000
DTSTAMP:20260422T061540
CREATED:20260420T171827Z
LAST-MODIFIED:20260420T171827Z
UID:10003918-1776848400-1776868200@www.wylr.net
SUMMARY:Nebraska Extension Tools and Tactics for Managing Drought Workshop
DESCRIPTION:April 22     Nebraska Extension Tools and Tactics for Managing Drought Workshop\, 9 a.m.-2:30 p.m.\, West Central Research and Education Center\, North Platte\, Neb. For more information or to register\, visit nsco.unl.edu.
URL:https://www.wylr.net/event/nebraska-extension-tools-and-tactics-for-managing-drought-workshop-2/
CATEGORIES:Calendar of Events
END:VEVENT
BEGIN:VEVENT
DTSTART;TZID=America/Denver:20260423T173000
DTEND;TZID=America/Denver:20260423T200000
DTSTAMP:20260422T061540
CREATED:20260320T153101Z
LAST-MODIFIED:20260320T153101Z
UID:10003870-1776965400-1776974400@www.wylr.net
SUMMARY:Wyoming Game and Fish Department “Carrying Capacity: The Hunt for Resilience” Film Screening
DESCRIPTION:April 23           Wyoming Game and Fish Department “Carrying Capacity: The Hunt for Resilience” Film Screening\, 5:30-8 p.m.\, Buffalo Bill Center of the West\, Cody. For more information\, visit wgfd.wyo.gov.
URL:https://www.wylr.net/event/wyoming-game-and-fish-department-carrying-capacity-the-hunt-for-resilience-film-screening-4/
CATEGORIES:Calendar of Events
END:VEVENT
BEGIN:VEVENT
DTSTART;VALUE=DATE:20260425
DTEND;VALUE=DATE:20260426
DTSTAMP:20260422T061540
CREATED:20260402T212033Z
LAST-MODIFIED:20260402T212033Z
UID:10003895-1777075200-1777161599@www.wylr.net
SUMMARY:University of Wyoming Extension Harvest Wyoming Pre-Conference Workshop
DESCRIPTION:April 25           University of Wyoming Extension Harvest Wyoming Pre-Conference Workshop\, Cody and Powell. For more information or to register\, visit bit.ly/harvest-wy.
URL:https://www.wylr.net/event/university-of-wyoming-extension-harvest-wyoming-pre-conference-workshop/
CATEGORIES:Calendar of Events
END:VEVENT
BEGIN:VEVENT
DTSTART;VALUE=DATE:20260426
DTEND;VALUE=DATE:20260427
DTSTAMP:20260422T061540
CREATED:20260402T212118Z
LAST-MODIFIED:20260402T212118Z
UID:10003896-1777161600-1777247999@www.wylr.net
SUMMARY:University of Wyoming Extension Harvest Wyoming Conference
DESCRIPTION:April 26           University of Wyoming Extension Harvest Wyoming Conference\, Holiday Inn\, Cody. For more information or to register\, visit bit.ly/harvest-wy.
URL:https://www.wylr.net/event/university-of-wyoming-extension-harvest-wyoming-conference/
CATEGORIES:Calendar of Events
END:VEVENT
END:VCALENDAR