BEGIN:VCALENDAR
VERSION:2.0
PRODID:-//Wyoming Livestock Roundup - ECPv6.15.20//NONSGML v1.0//EN
CALSCALE:GREGORIAN
METHOD:PUBLISH
X-ORIGINAL-URL:https://www.wylr.net
X-WR-CALDESC:Events for Wyoming Livestock Roundup
REFRESH-INTERVAL;VALUE=DURATION:PT1H
X-Robots-Tag:noindex
X-PUBLISHED-TTL:PT1H
BEGIN:VTIMEZONE
TZID:America/Denver
BEGIN:DAYLIGHT
TZOFFSETFROM:-0700
TZOFFSETTO:-0600
TZNAME:MDT
DTSTART:20250309T090000
END:DAYLIGHT
BEGIN:STANDARD
TZOFFSETFROM:-0600
TZOFFSETTO:-0700
TZNAME:MST
DTSTART:20251102T080000
END:STANDARD
BEGIN:DAYLIGHT
TZOFFSETFROM:-0700
TZOFFSETTO:-0600
TZNAME:MDT
DTSTART:20260308T090000
END:DAYLIGHT
BEGIN:STANDARD
TZOFFSETFROM:-0600
TZOFFSETTO:-0700
TZNAME:MST
DTSTART:20261101T080000
END:STANDARD
BEGIN:DAYLIGHT
TZOFFSETFROM:-0700
TZOFFSETTO:-0600
TZNAME:MDT
DTSTART:20270314T090000
END:DAYLIGHT
BEGIN:STANDARD
TZOFFSETFROM:-0600
TZOFFSETTO:-0700
TZNAME:MST
DTSTART:20271107T080000
END:STANDARD
END:VTIMEZONE
BEGIN:VEVENT
DTSTART;VALUE=DATE:20260608
DTEND;VALUE=DATE:20260613
DTSTAMP:20260424T122519
CREATED:20260313T221522Z
LAST-MODIFIED:20260313T221522Z
UID:10003857-1780876800-1781308799@www.wylr.net
SUMMARY:University of Wyoming 2026 Ranch Camp
DESCRIPTION:June 8-12         University of Wyoming 2026 Ranch Camp\, Ladder Ranch\, Carbon County. For more information or to apply\, visit bit.ly/4rkLAe2.
URL:https://www.wylr.net/event/university-of-wyoming-2026-ranch-camp/
CATEGORIES:Calendar of Events
END:VEVENT
BEGIN:VEVENT
DTSTART;TZID=America/Denver:20260610T190000
DTEND;TZID=America/Denver:20260610T200000
DTSTAMP:20260424T122519
CREATED:20260402T212515Z
LAST-MODIFIED:20260402T212515Z
UID:10003901-1781118000-1781121600@www.wylr.net
SUMMARY:Growing Food in Wyoming Masterclass: Pests and Pollinators
DESCRIPTION:June 10            Growing Food in Wyoming Masterclass: Pests and Pollinators\, 7-8 p.m.\, Zoom. For more information or to register\, visit dirtworkswyo.com.
URL:https://www.wylr.net/event/growing-food-in-wyoming-masterclass-pests-and-pollinators/
CATEGORIES:Calendar of Events
END:VEVENT
END:VCALENDAR