BEGIN:VCALENDAR
VERSION:2.0
PRODID:-//Wyoming Livestock Roundup - ECPv6.15.20//NONSGML v1.0//EN
CALSCALE:GREGORIAN
METHOD:PUBLISH
X-WR-CALNAME:Wyoming Livestock Roundup
X-ORIGINAL-URL:https://www.wylr.net
X-WR-CALDESC:Events for Wyoming Livestock Roundup
REFRESH-INTERVAL;VALUE=DURATION:PT1H
X-Robots-Tag:noindex
X-PUBLISHED-TTL:PT1H
BEGIN:VTIMEZONE
TZID:America/Denver
BEGIN:DAYLIGHT
TZOFFSETFROM:-0700
TZOFFSETTO:-0600
TZNAME:MDT
DTSTART:20250309T090000
END:DAYLIGHT
BEGIN:STANDARD
TZOFFSETFROM:-0600
TZOFFSETTO:-0700
TZNAME:MST
DTSTART:20251102T080000
END:STANDARD
BEGIN:DAYLIGHT
TZOFFSETFROM:-0700
TZOFFSETTO:-0600
TZNAME:MDT
DTSTART:20260308T090000
END:DAYLIGHT
BEGIN:STANDARD
TZOFFSETFROM:-0600
TZOFFSETTO:-0700
TZNAME:MST
DTSTART:20261101T080000
END:STANDARD
BEGIN:DAYLIGHT
TZOFFSETFROM:-0700
TZOFFSETTO:-0600
TZNAME:MDT
DTSTART:20270314T090000
END:DAYLIGHT
BEGIN:STANDARD
TZOFFSETFROM:-0600
TZOFFSETTO:-0700
TZNAME:MST
DTSTART:20271107T080000
END:STANDARD
END:VTIMEZONE
BEGIN:VEVENT
DTSTART;TZID=America/Denver:20260501T090000
DTEND;TZID=America/Denver:20260601T160000
DTSTAMP:20260424T034912
CREATED:20260313T221208Z
LAST-MODIFIED:20260313T221208Z
UID:10003853-1777626000-1780329600@www.wylr.net
SUMMARY:Wyoming Game and Fish Department Aquatic Invasive Species Inspector Training
DESCRIPTION:May 1              Wyoming Game and Fish Department Aquatic Invasive Species Inspector Training\, 9 a.m.-4 p.m.\, Laramie Regional Office\, Laramie. For more information or to register\, visit wgfd.wyo.gov.
URL:https://www.wylr.net/event/wyoming-game-and-fish-department-aquatic-invasive-species-inspector-training-4/
CATEGORIES:Calendar of Events
END:VEVENT
BEGIN:VEVENT
DTSTART;VALUE=DATE:20260521
DTEND;VALUE=DATE:20260523
DTSTAMP:20260424T034912
CREATED:20260306T180929Z
LAST-MODIFIED:20260306T180929Z
UID:10003804-1779321600-1779494399@www.wylr.net
SUMMARY:Stockmanship and Stewardship
DESCRIPTION:May 21-22       Stockmanship and Stewardship\, Indian Livestock Days\, Farmington\, N.M. For more information\, visit stockmanshipandstewardship.org/.
URL:https://www.wylr.net/event/stockmanship-and-stewardship-2/
CATEGORIES:Calendar of Events
END:VEVENT
BEGIN:VEVENT
DTSTART;TZID=America/Denver:20260521T180000
DTEND;TZID=America/Denver:20260521T193000
DTSTAMP:20260424T034912
CREATED:20260420T173545Z
LAST-MODIFIED:20260420T173545Z
UID:10003925-1779386400-1779391800@www.wylr.net
SUMMARY:University of Wyoming Extension Wildfire Webinar Series: Best Practices to Reduce the Risk to You and Your Home
DESCRIPTION:May 21      University of Wyoming Extension Wildfire Webinar Series: Best Practices to Reduce the Risk to You and Your Home\, 6-7:30 p.m.\, Zoom. For more information\, visit wyoextension.org/wrir/wildfire-webinar/.
URL:https://www.wylr.net/event/university-of-wyoming-extension-wildfire-webinar-series-best-practices-to-reduce-the-risk-to-you-and-your-home/
CATEGORIES:Calendar of Events
END:VEVENT
END:VCALENDAR